BEGIN:VCALENDAR
VERSION:2.0
PRODID:-//eventon.com NONSGML v1.0//EN
CALSCALE:GREGORIAN
METHOD:PUBLISH
BEGIN:VEVENT
UID:69e6c65f6c74e
DTSTAMP:20260420T203543
DTSTART:20250831T140000Z
DTEND:20250831T151500Z
TZID:America/New_York
LOCATION:Jerusalem Chapel 935 Jerusalem Chapel Road\,  Churchville\,  VA 24421
SUMMARY:Worship Service
DESCRIPTION: We are excited to host Piercing Word for a special presentation of The Gospel of Mark. Experience The Gospel of Mark performed dramatically word-for-word from the ESV Bible. This one-man Scripture Performance will surprise and delight you with creative storytelling that will take you to the places Jesus went and introduce you to[..]\nhttps://jerusalemchapel.com/events/worship-service-29/
URL:https://jerusalemchapel.com/events/worship-service-29/
END:VEVENT
END:VCALENDAR