BEGIN:VCALENDAR
VERSION:2.0
PRODID:-//eventon.com NONSGML v1.0//EN
CALSCALE:GREGORIAN
METHOD:PUBLISH
BEGIN:VEVENT
UID:69e690d6a6110
DTSTAMP:20260420T164718
DTSTART:20250720T140000Z
DTEND:20250720T151500Z
TZID:America/New_York
LOCATION:Jerusalem Chapel 935 Jerusalem Chapel Road\,  Churchville\,  VA 24421
SUMMARY:Worship Service
DESCRIPTION: Join us for the worship service where we spend time worshiping the Lord\,  praying\,  and studying God’s Word. George Etling will be sharing a special message today from Psalm 139:23-24 entitled &#8220;Have Thine Own Way Lord.&#8221; Nursery is provided for children\,  infants through 5 years old.\nhttps://jerusalemchapel.com/events/worship-service-31/
URL:https://jerusalemchapel.com/events/worship-service-31/
END:VEVENT
END:VCALENDAR