BEGIN:VCALENDAR
VERSION:2.0
PRODID:-//eventon.com NONSGML v1.0//EN
CALSCALE:GREGORIAN
METHOD:PUBLISH
BEGIN:VEVENT
UID:69e675daac730
DTSTAMP:20260420T145210
DTSTART:20250803T140000Z
DTEND:20250803T151500Z
TZID:America/New_York
LOCATION:Jerusalem Chapel 935 Jerusalem Chapel Road\,  Churchville\,  VA 24421
SUMMARY:Worship Service
DESCRIPTION: We are excited to host Chosen 413 during our worship service time. Chosen 4:13 is a Southern/Country Gospel group based in Pikeville\,  Kentucky. They were established in 2005 and have been singing the Lord&#8217;s praises ever since. They have made countless friends in their travels and love praising the Savior[..]\nhttps://jerusalemchapel.com/events/worship-service-32/
URL:https://jerusalemchapel.com/events/worship-service-32/
END:VEVENT
END:VCALENDAR