BEGIN:VCALENDAR
VERSION:2.0
PRODID:-//eventon.com NONSGML v1.0//EN
CALSCALE:GREGORIAN
METHOD:PUBLISH
BEGIN:VEVENT
UID:69e65b336d7a5
DTSTAMP:20260420T125827
DTSTART:20250829T230000Z
DTEND:20250830T001500Z
TZID:America/New_York
LOCATION:Jerusalem Chapel 935 Jerusalem Chapel Road\,  Churchville\,  VA 24421
SUMMARY:The Siler Family in Concert
DESCRIPTION: Please join us for a wonderful concert with The Siler Family. In 2002\,  one sunny Sunday morning in September\,  Toby and Christi&#8217;s family doubled in size when they said &#8220;hello&#8221; to boy/girl twins\,  Jarrod and Jewel\,  who were destined to grow up &#8220;on the road&#8221;. They continued to travel for[..]\nhttps://jerusalemchapel.com/events/the-siler-family-in-concert/
URL:https://jerusalemchapel.com/events/the-siler-family-in-concert/
END:VEVENT
END:VCALENDAR