BEGIN:VCALENDAR
VERSION:2.0
PRODID:-//eventon.com NONSGML v1.0//EN
CALSCALE:GREGORIAN
METHOD:PUBLISH
BEGIN:VEVENT
UID:69e644819c2ce
DTSTAMP:20260420T112137
DTSTART:20250817T140000Z
DTEND:20250817T151500Z
TZID:America/New_York
LOCATION:Jerusalem Chapel 935 Jerusalem Chapel Road\,  Churchville\,  VA 24421
SUMMARY:Worship Service
DESCRIPTION: Join us for the worship service where we spend time worshiping the Lord\,  praying\,  and studying God’s Word. Sunday\,  August 17\,  2025 is a very special day as we will learn about believers baptism and then celebrate the baptism of several individuals. If you are interested in participating in believers[..]\nhttps://jerusalemchapel.com/events/worship-service-33/
URL:https://jerusalemchapel.com/events/worship-service-33/
END:VEVENT
END:VCALENDAR