BEGIN:VCALENDAR
VERSION:2.0
PRODID:-//eventon.com NONSGML v1.0//EN
CALSCALE:GREGORIAN
METHOD:PUBLISH
BEGIN:VEVENT
UID:69e62ba7b9791
DTSTAMP:20260420T093535
DTSTART:20260422T220000Z
DTEND:20260422T234500Z
TZID:America/New_York
LOCATION:Jerusalem Chapel 935 Jerusalem Chapel Road\,  Churchville\,  VA 24421
SUMMARY:Awana Clubs 2025-2026
DESCRIPTION: Awana is a children and youth program consisting of Scripture memory\,  Bible lessons\,  game time and activities. It is for children three years old through 8th grade.  All children in our community are invited to attend. Parents and other family members are encouraged to join their children for dinner at[..]\nhttps://jerusalemchapel.com/events/awana-clubs-2025-2026/var/ri-31.l-L1
URL:https://jerusalemchapel.com/events/awana-clubs-2025-2026/var/ri-31.l-L1
END:VEVENT
END:VCALENDAR