BEGIN:VCALENDAR
VERSION:2.0
PRODID:-//eventon.com NONSGML v1.0//EN
CALSCALE:GREGORIAN
METHOD:PUBLISH
BEGIN:VEVENT
UID:69e616c8bd1dd
DTSTAMP:20260420T080632
DTSTART:20250801T210000Z
DTEND:20250802T120000Z
TZID:America/New_York
LOCATION:
SUMMARY:Engage Youth Lock-In
DESCRIPTION: Calling all youth (6th-12th grade)!  Enjoy a night of food\,  games\,  movies\,  and prizes during the lock-in. The lock-in is Friday\,  August 1 at 5:00 pm to Saturday\,  August 2\,  2025 at 8:00 am.  Sign-in will start at 4:00 pm. Bring a friend and join the fun!\nhttps://jerusalemchapel.com/events/engage-youth-lock-in/
URL:https://jerusalemchapel.com/events/engage-youth-lock-in/
END:VEVENT
END:VCALENDAR