BEGIN:VCALENDAR
VERSION:2.0
PRODID:-//eventon.com NONSGML v1.0//EN
CALSCALE:GREGORIAN
METHOD:PUBLISH
BEGIN:VEVENT
UID:69e8a4ea3eded
DTSTAMP:20260422T063730
DTSTART:20250921T140000Z
DTEND:20250921T151500Z
TZID:America/New_York
LOCATION:Jerusalem Chapel 935 Jerusalem Chapel Road\,  Churchville\,  VA 24421
SUMMARY:Worship Service
DESCRIPTION: Join us for the worship service where we spend time worshiping the Lord\,  praying\,  and studying God’s Word. We are studying through the book of Genesis.  On Sunday\,  September 21\,  2025 we will be studying Genesis 25:19-26. Nursery is provided for children\,  infants through 5 years old. Children&#8217;s church is provided for children\, [..]\nhttps://jerusalemchapel.com/events/worship-service-34/
URL:https://jerusalemchapel.com/events/worship-service-34/
END:VEVENT
END:VCALENDAR