BEGIN:VCALENDAR
VERSION:2.0
PRODID:-//eventon.com NONSGML v1.0//EN
CALSCALE:GREGORIAN
METHOD:PUBLISH
BEGIN:VEVENT
UID:69e5fc79f1747
DTSTAMP:20260420T061417
DTSTART:20251214T150000Z
DTEND:20251214T161500Z
TZID:America/New_York
LOCATION:Jerusalem Chapel 935 Jerusalem Chapel Road\,  Churchville\,  VA 24421
SUMMARY:Worship Service
DESCRIPTION: Join us for the worship service where we spend time worshiping the Lord\,  praying\,  and studying God’s Word. We are celebrating the 3rd week of Advent.   We will be learning from Luke 2:8-21. Nursery is provided for children\,  infants through 5 years old. Children&#8217;s church is provided for children\,  Kindergarten[..]\nhttps://jerusalemchapel.com/events/worship-service-49/
URL:https://jerusalemchapel.com/events/worship-service-49/
END:VEVENT
END:VCALENDAR