BEGIN:VCALENDAR
VERSION:2.0
PRODID:-//eventon.com NONSGML v1.0//EN
CALSCALE:GREGORIAN
METHOD:PUBLISH
BEGIN:VEVENT
UID:69e5fc4b8118d
DTSTAMP:20260420T061331
DTSTART:20260118T133000Z
DTEND:20260118T144500Z
TZID:America/New_York
LOCATION:Jerusalem Chapel 935 Jerusalem Chapel Road\,  Churchville\,  VA 24421
SUMMARY:Worship Service - 8:30 am
DESCRIPTION: Join us for the worship service where we spend time worshiping the Lord\,  praying\,  and studying God’s Word. We are studying through the book of Genesis.  On Sunday\,  January 18\,  2026 we will be studying Genesis 30:1-8. Nursery is provided for children\,  infants through 5 years old. Children&#8217;s church is provided for children\, [..]\nhttps://jerusalemchapel.com/events/worship-service-830-am-2/
URL:https://jerusalemchapel.com/events/worship-service-830-am-2/
END:VEVENT
END:VCALENDAR