BEGIN:VCALENDAR
VERSION:2.0
PRODID:-//eventon.com NONSGML v1.0//EN
CALSCALE:GREGORIAN
METHOD:PUBLISH
BEGIN:VEVENT
UID:69e5fc4cea352
DTSTAMP:20260420T061332
DTSTART:20260118T160000Z
DTEND:20260118T171500Z
TZID:America/New_York
LOCATION:Jerusalem Chapel 935 Jerusalem Chapel Road\,  Churchville\,  VA 24421
SUMMARY:Worship Service - 11:00 am
DESCRIPTION: Join us for the worship service where we spend time worshiping the Lord\,  praying\,  and studying God’s Word. We are studying through the book of Genesis.  On Sunday\,  January 18\,  2026 we will be studying Genesis 30:1-8. Nursery is provided for children\,  infants through 5 years old.\nhttps://jerusalemchapel.com/events/worship-service-1100-am-3/
URL:https://jerusalemchapel.com/events/worship-service-1100-am-3/
END:VEVENT
END:VCALENDAR