BEGIN:VCALENDAR
VERSION:2.0
PRODID:-//eventon.com NONSGML v1.0//EN
CALSCALE:GREGORIAN
METHOD:PUBLISH
BEGIN:VEVENT
UID:69e66f2daec81
DTSTAMP:20260420T142341
DTSTART:20260329T140000Z
DTEND:20260329T153000Z
TZID:America/New_York
LOCATION:Jerusalem Chapel 935 Jerusalem Chapel Road\,  Churchville\,  VA 24421
SUMMARY:Worship Service - 10:00 am
DESCRIPTION: We are excited to have One Voice with us for our 5th Sunday Celebration. On Sunday\,  March 29\,  2026 we will be worshiping the Lord together\,  praying\,  and hearing a special testimony. Nursery is provided for children\,  infants through 5 years old. Children&#8217;s church is provided for children\,  Kindergarten through[..]\nhttps://jerusalemchapel.com/events/worship-service-1000-am/
URL:https://jerusalemchapel.com/events/worship-service-1000-am/
END:VEVENT
END:VCALENDAR