BEGIN:VCALENDAR
VERSION:2.0
PRODID:-//eventon.com NONSGML v1.0//EN
CALSCALE:GREGORIAN
METHOD:PUBLISH
BEGIN:VEVENT
UID:69e65c147a0c5
DTSTAMP:20260420T130212
DTSTART:20260402T230000Z
DTEND:20260403T000000Z
TZID:America/New_York
LOCATION:Jerusalem Chapel 935 Jerusalem Chapel Road\,  Churchville\,  VA 24421
SUMMARY:Maundy-Thursday Communion Service
DESCRIPTION: Join us for a meaningful time of reflecting on and remembering the Last Supper that Jesus had with His disciples.  A table that seats twelve will be set up in the front of the sanctuary.  Groups of twelve will partake of Holy Communion until everyone has had an opportunity to[..]\nhttps://jerusalemchapel.com/events/maundy-thursday-communion-service/
URL:https://jerusalemchapel.com/events/maundy-thursday-communion-service/
END:VEVENT
END:VCALENDAR