BEGIN:VCALENDAR
VERSION:2.0
PRODID:-//eventon.com NONSGML v1.0//EN
CALSCALE:GREGORIAN
METHOD:PUBLISH
BEGIN:VEVENT
UID:69e65a28c8a8c
DTSTAMP:20260420T125400
DTSTART:20260403T160000Z
DTEND:20260403T170000Z
TZID:America/New_York
LOCATION:Wayne Hills Baptist Church 877 Ladd Road
SUMMARY:Good Friday Community Service
DESCRIPTION: Join with other believers from churches across Augusta County for the Good Friday Community Service at Wayne Hills Baptist Church\,  877 Ladd Road\,  Waynesboro\,  VA  22980 on April 3\,  2026 at 12:00 pm (noon). Pastors from multiple churches will be sharing about the &#8220;Seven Last Words of Christ.&#8221; &nbsp;\nhttps://jerusalemchapel.com/events/good-friday-community-service/
URL:https://jerusalemchapel.com/events/good-friday-community-service/
END:VEVENT
END:VCALENDAR