BEGIN:VCALENDAR
VERSION:2.0
PRODID:-//eventon.com NONSGML v1.0//EN
CALSCALE:GREGORIAN
METHOD:PUBLISH
BEGIN:VEVENT
UID:69e675b2343ff
DTSTAMP:20260420T145130
DTSTART:20260405T123000Z
DTEND:20260405T134500Z
TZID:America/New_York
LOCATION:Jerusalem Chapel 935 Jerusalem Chapel Road\,  Churchville\,  VA 24421
SUMMARY:Easter Service - 8:30 am
DESCRIPTION: Join us for our Easter Sunday worship service as we celebrate the resurrection of Jesus Christ. On Sunday\,  April 5\,  2026 we will be focusing on Luke 24:36-49. Nursery is provided for children\,  infants through 5 years old. Children&#8217;s church is provided for children\,  Kindergarten through 4th grade (children are[..]\nhttps://jerusalemchapel.com/events/easter-service-830-am/
URL:https://jerusalemchapel.com/events/easter-service-830-am/
END:VEVENT
END:VCALENDAR