BEGIN:VCALENDAR
VERSION:2.0
PRODID:-//eventon.com NONSGML v1.0//EN
CALSCALE:GREGORIAN
METHOD:PUBLISH
BEGIN:VEVENT
UID:69e68d8a70e27
DTSTAMP:20260420T163314
DTSTART:20260405T150000Z
DTEND:20260405T161500Z
TZID:America/New_York
LOCATION:Jerusalem Chapel 935 Jerusalem Chapel Road\,  Churchville\,  VA 24421
SUMMARY:Easter Service - 11:00 am
DESCRIPTION: Join us for our Easter Sunday worship service as we celebrate the resurrection of Jesus Christ. On Sunday\,  April 5\,  2026 we will be focusing on Luke 24:36-49. Nursery is provided for children\,  infants through 5 years old.\nhttps://jerusalemchapel.com/events/easter-service-1100-am/
URL:https://jerusalemchapel.com/events/easter-service-1100-am/
END:VEVENT
END:VCALENDAR