BEGIN:VCALENDAR
VERSION:2.0
PRODID:-//eventon.com NONSGML v1.0//EN
CALSCALE:GREGORIAN
METHOD:PUBLISH
BEGIN:VEVENT
UID:69e6a684c2040
DTSTAMP:20260420T181948
DTSTART:20260412T123000Z
DTEND:20260412T134500Z
TZID:America/New_York
LOCATION:Jerusalem Chapel 935 Jerusalem Chapel Road\,  Churchville\,  VA 24421
SUMMARY:Mission Sunday - 8:30 am
DESCRIPTION: Join us for the worship service where we spend time worshiping the Lord\,  praying\,  and studying God’s Word. Today is Missions Sunday!  There will be presentations from the missions teams that served in Honduras\,  Ethiopia\,  and Thailand. It will be an incredible morning of celebrating all that God has done[..]\nhttps://jerusalemchapel.com/events/missions-sunday-830-am/
URL:https://jerusalemchapel.com/events/missions-sunday-830-am/
END:VEVENT
END:VCALENDAR