BEGIN:VCALENDAR
VERSION:2.0
PRODID:-//eventon.com NONSGML v1.0//EN
CALSCALE:GREGORIAN
METHOD:PUBLISH
BEGIN:VEVENT
UID:69e6c17eb1c63
DTSTAMP:20260420T201454
DTSTART:20260412T150000Z
DTEND:20260412T041500Z
TZID:America/New_York
LOCATION:Jerusalem Chapel 935 Jerusalem Chapel Road\,  Churchville\,  VA 24421
SUMMARY:Mission Sunday - 11:00 am
DESCRIPTION: Join us for the worship service where we spend time worshiping the Lord\,  praying\,  and studying God’s Word. Today is Missions Sunday!  There will be presentations from the missions teams that served in Honduras\,  Ethiopia\,  and Thailand. It will be an incredible morning of celebrating all that God has done[..]\nhttps://jerusalemchapel.com/events/missions-sunday-1100-am/
URL:https://jerusalemchapel.com/events/missions-sunday-1100-am/
END:VEVENT
END:VCALENDAR