BEGIN:VCALENDAR
VERSION:2.0
PRODID:-//eventon.com NONSGML v1.0//EN
CALSCALE:GREGORIAN
METHOD:PUBLISH
BEGIN:VEVENT
UID:69e709bf00189
DTSTAMP:20260421T012311
DTSTART:20260426T123000Z
DTEND:20260426T134500Z
TZID:America/New_York
LOCATION:Jerusalem Chapel 935 Jerusalem Chapel Road\,  Churchville\,  VA 24421
SUMMARY:Worship Service - 8:30 am
DESCRIPTION: Join us for the worship service where we spend time worshiping the Lord\,  praying\,  and studying God’s Word. We are studying through the book of Genesis.  On Sunday\,  April 26\,  2026 we will be studying Genesis 31:22-35. Nursery is provided for children\,  infants through 5 years old. Children&#8217;s church is provided for children\, [..]\nhttps://jerusalemchapel.com/events/worship-service-830-am-9/
URL:https://jerusalemchapel.com/events/worship-service-830-am-9/
END:VEVENT
END:VCALENDAR